BEGIN:VCALENDAR
VERSION:2.0
PRODID:-//eventon.com NONSGML v1.0//EN
CALSCALE:GREGORIAN
METHOD:PUBLISH
BEGIN:VEVENT
UID:69e5f8becc3d2
DTSTAMP:20260420T095822Z
DTSTART:20260530
DTEND:20260531
LOCATION:
SUMMARY:Lesdag 4 Opleiding Taekwondotrainer-coach niveau 2 & 3
DESCRIPTION:Lesdag 4 Opleiding Taekwondotrainer-coach niveau 2 & 3\nhttps:/
 /www.taekwondobond.nl/events/lesdag-4-opleiding-taekwondotrainer-coach-nive
 au-2-3/
URL:https://www.taekwondobond.nl/events/lesdag-4-opleiding-taekwondotrainer-coach-niveau-2-3/
END:VEVENT
END:VCALENDAR