BEGIN:VCALENDAR
VERSION:2.0
PRODID:-//eventon.com NONSGML v1.0//EN
CALSCALE:GREGORIAN
METHOD:PUBLISH
BEGIN:VEVENT
UID:69eb9b4e3d00b
DTSTAMP:20260424T163318Z
DTSTART:20260926
DTEND:20260927
LOCATION:
SUMMARY:Lesdag 6 Opleiding Taekwondotrainer-coach niveau 3
DESCRIPTION:Lesdag 6 Opleiding Taekwondotrainer-coach niveau 3\nhttps://www
 .taekwondobond.nl/events/lesdag-6-opleiding-taekwondotrainer-coach-niveau-3
 /
URL:https://www.taekwondobond.nl/events/lesdag-6-opleiding-taekwondotrainer-coach-niveau-3/
END:VEVENT
END:VCALENDAR