BEGIN:VCALENDAR
VERSION:2.0
PRODID:-//eventon.com NONSGML v1.0//EN
CALSCALE:GREGORIAN
METHOD:PUBLISH
BEGIN:VEVENT
UID:69eb9b4ec29d9
DTSTAMP:20260424T163318Z
DTSTART:20261024
DTEND:20261025
LOCATION:
SUMMARY:Max Thumann Cup Kyorugi
DESCRIPTION:Uitschrijving Max Thumann Cup Kyorugi 2026\nhttps://www.taekwon
 dobond.nl/events/max-thumann-cup-kyorugi-onder-voorbehoud/
URL:https://www.taekwondobond.nl/events/max-thumann-cup-kyorugi-onder-voorbehoud/
END:VEVENT
END:VCALENDAR