BEGIN:VCALENDAR
VERSION:2.0
PRODID:-//eventon.com NONSGML v1.0//EN
CALSCALE:GREGORIAN
METHOD:PUBLISH
BEGIN:VEVENT
UID:69e5e2fbb647c
DTSTAMP:20260420T082531Z
DTSTART:20261025
DTEND:20261026
LOCATION:
SUMMARY:Max Thumann Cup Poomsae
DESCRIPTION:Uitschrijving Max Thumann Cup Poomsae 2026\nhttps://www.taekwon
 dobond.nl/events/max-thumann-cup-poomsae-onder-voorbehoud/
URL:https://www.taekwondobond.nl/events/max-thumann-cup-poomsae-onder-voorbehoud/
END:VEVENT
END:VCALENDAR