BEGIN:VCALENDAR
VERSION:2.0
PRODID:-//eventon.com NONSGML v1.0//EN
CALSCALE:GREGORIAN
METHOD:PUBLISH
BEGIN:VEVENT
UID:69eb9c0387f78
DTSTAMP:20260424T163619Z
DTSTART:20260516T090000Z
DTEND:20260516T120000Z
LOCATION:
SUMMARY:Nationaal herexamen
DESCRIPTION:Uitschrijving Nationaal Herexamen 16 mei 2026\nhttps://www.taek
 wondobond.nl/events/nationaal-herexamen-onder-voorbehoud-2/
URL:https://www.taekwondobond.nl/events/nationaal-herexamen-onder-voorbehoud-2/
END:VEVENT
END:VCALENDAR