BEGIN:VCALENDAR
VERSION:2.0
PRODID:-//eventon.com NONSGML v1.0//EN
CALSCALE:GREGORIAN
METHOD:PUBLISH
BEGIN:VEVENT
UID:69eb9bd8e70a1
DTSTAMP:20260424T163536Z
DTSTART:20260613
DTEND:20260614
LOCATION:
SUMMARY:Nationaal danexamen
DESCRIPTION:Uitschrijving Nationaal Danexamen 13 juni 2026 Aanmeldingsformu
 lier danexamen 13 juni 2026 Partner registratieformulier 13 juni 2026 &nbsp
 ;\nhttps://www.taekwondobond.nl/events/nationaal-danexamen-onder-voorbehoud
 -4/
URL:https://www.taekwondobond.nl/events/nationaal-danexamen-onder-voorbehoud-4/
END:VEVENT
END:VCALENDAR