BEGIN:VCALENDAR
VERSION:2.0
PRODID:-//eventon.com NONSGML v1.0//EN
CALSCALE:GREGORIAN
METHOD:PUBLISH
BEGIN:VEVENT
UID:69eb9c03880b0
DTSTAMP:20260424T163619Z
DTSTART:20260530
DTEND:20260531
LOCATION:
SUMMARY:Danexaminatoren bijscholing
DESCRIPTION:Danexaminatoren bijscholing\nhttps://www.taekwondobond.nl/event
 s/danexaminatoren-bijscholing-4/
URL:https://www.taekwondobond.nl/events/danexaminatoren-bijscholing-4/
END:VEVENT
END:VCALENDAR