BEGIN:VCALENDAR
VERSION:2.0
PRODID:-//eventon.com NONSGML v1.0//EN
CALSCALE:GREGORIAN
METHOD:PUBLISH
BEGIN:VEVENT
UID:69eb9c4112db1
DTSTAMP:20260424T163721Z
DTSTART:20260516T123000Z
DTEND:20260516T160000Z
LOCATION:
SUMMARY:Danexamenvoorbereidingstraining
DESCRIPTION:Uitschrijving Danvoorbereidingstraining 16 mei 2026\nhttps://ww
 w.taekwondobond.nl/events/danexamenvoorbereidingstraining-2/
URL:https://www.taekwondobond.nl/events/danexamenvoorbereidingstraining-2/
END:VEVENT
END:VCALENDAR