BEGIN:VCALENDAR
VERSION:2.0
PRODID:-//eventon.com NONSGML v1.0//EN
CALSCALE:GREGORIAN
METHOD:PUBLISH
BEGIN:VEVENT
UID:69eb9c409c61d
DTSTAMP:20260424T163720Z
DTSTART:20260516T123000Z
DTEND:20260516T160000Z
LOCATION:
SUMMARY:Trainersbijscholing
DESCRIPTION:uitschrijving: Trainersbijscholing TBN 16 mei 2026\nhttps://www
 .taekwondobond.nl/events/trainersbijscholing-10/
URL:https://www.taekwondobond.nl/events/trainersbijscholing-10/
END:VEVENT
END:VCALENDAR