BEGIN:VCALENDAR
VERSION:2.0
PRODID:-//eventon.com NONSGML v1.0//EN
CALSCALE:GREGORIAN
METHOD:PUBLISH
BEGIN:VEVENT
UID:69eb9c47e9406
DTSTAMP:20260424T163727Z
DTSTART:20260425
DTEND:20260426
LOCATION:
SUMMARY:Stijljurycursus
DESCRIPTION:Stijljurycursus april 2026\nhttps://www.taekwondobond.nl/events
 /stijljurycursus-12/
URL:https://www.taekwondobond.nl/events/stijljurycursus-12/
END:VEVENT
END:VCALENDAR