BEGIN:VCALENDAR
VERSION:2.0
PRODID:-//eventon.com NONSGML v1.0//EN
CALSCALE:GREGORIAN
METHOD:PUBLISH
BEGIN:VEVENT
UID:69eb9c40e9875
DTSTAMP:20260424T163720Z
DTSTART:20260509T100000Z
DTEND:20260509T130000Z
LOCATION:
SUMMARY:Para-Poomsae informatie bijeenkomst
DESCRIPTION:Para-Poomsae informatieve bijeenkomst mei 2026 &nbsp;\nhttps://
 www.taekwondobond.nl/events/para-poomsae-informatie-bijeenkomst/
URL:https://www.taekwondobond.nl/events/para-poomsae-informatie-bijeenkomst/
END:VEVENT
END:VCALENDAR