BEGIN:VCALENDAR
VERSION:2.0
PRODID:-//eventon.com NONSGML v1.0//EN
CALSCALE:GREGORIAN
METHOD:PUBLISH
BEGIN:VEVENT
UID:69e5f8c8603b9
DTSTAMP:20260420T095832Z
DTSTART:20261213
DTEND:20261214
LOCATION:
SUMMARY:NK (poomsae / sparring)
DESCRIPTION:NK (poomsae / sparring)\nhttps://www.taekwondobond.nl/events/nk
 -poomsae-sparren/
URL:https://www.taekwondobond.nl/events/nk-poomsae-sparren/
END:VEVENT
END:VCALENDAR