BEGIN:VCALENDAR
VERSION:2.0
PRODID:-//eventon.com NONSGML v1.0//EN
CALSCALE:GREGORIAN
METHOD:PUBLISH
BEGIN:VEVENT
UID:69eb9c47e8163
DTSTAMP:20260424T163727Z
DTSTART:20260520
DTEND:20260521
LOCATION:
SUMMARY:Districtsvergadering Zuid-Nederland
DESCRIPTION:Districtsvergadering Zuid-Nederland\nhttps://www.taekwondobond.
 nl/events/districtsvergadering-zuid-nederland-12/
URL:https://www.taekwondobond.nl/events/districtsvergadering-zuid-nederland-12/
END:VEVENT
END:VCALENDAR