BEGIN:VCALENDAR
VERSION:2.0
PRODID:-//eventon.com NONSGML v1.0//EN
CALSCALE:GREGORIAN
METHOD:PUBLISH
BEGIN:VEVENT
UID:69eb9bb0712d8
DTSTAMP:20260424T163456Z
DTSTART:20260617T193000Z
DTEND:20260617T223000Z
LOCATION:
SUMMARY:Voorjaarsvergadering
DESCRIPTION:Voorjaarsvergadering\nhttps://www.taekwondobond.nl/events/voorj
 aarsvergadering-10/
URL:https://www.taekwondobond.nl/events/voorjaarsvergadering-10/
END:VEVENT
END:VCALENDAR