BEGIN:VCALENDAR
VERSION:2.0
PRODID:-//eventon.com NONSGML v1.0//EN
CALSCALE:GREGORIAN
METHOD:PUBLISH
BEGIN:VEVENT
UID:69eb9c4d3af3e
DTSTAMP:20260424T163733Z
DTSTART:20260420T190000Z
DTEND:20260420T220000Z
LOCATION:
SUMMARY:Districtsvergadering District Noord-Oost Nederland
DESCRIPTION:0001_26dn Oproep districtsvergadering Noord-Oost april 2026 &nb
 sp;\nhttps://www.taekwondobond.nl/events/districtsvergadering-district-noor
 d-oost-nederland-2/
URL:https://www.taekwondobond.nl/events/districtsvergadering-district-noord-oost-nederland-2/
END:VEVENT
END:VCALENDAR