BEGIN:VCALENDAR
VERSION:2.0
PRODID:-//eventon.com NONSGML v1.0//EN
CALSCALE:GREGORIAN
METHOD:PUBLISH
BEGIN:VEVENT
UID:69eb9c47e90aa
DTSTAMP:20260424T163727Z
DTSTART:20270403T070000Z
DTEND:20270403T235900Z
LOCATION:
SUMMARY:Taekwondo Almere Open Sparring (onder voorbehoud)
DESCRIPTION:Taekwondo Almere Open Sparring (onder voorbehoud)\nhttps://www.
 taekwondobond.nl/events/taekwondo-almere-open-sparring-onder-voorbehoud/
URL:https://www.taekwondobond.nl/events/taekwondo-almere-open-sparring-onder-voorbehoud/
END:VEVENT
END:VCALENDAR