BEGIN:VCALENDAR
VERSION:2.0
PRODID:-//eventon.com NONSGML v1.0//EN
CALSCALE:GREGORIAN
METHOD:PUBLISH
BEGIN:VEVENT
UID:69eb9c0424571
DTSTAMP:20260424T163620Z
DTSTART:20270404T070000Z
DTEND:20270404T235900Z
LOCATION:
SUMMARY:Taekwondo Almere Open Poomsae (onder voorbehoud)
DESCRIPTION:Taekwondo Almere Open Poomsae (onder voorbehoud)\nhttps://www.t
 aekwondobond.nl/events/taekwondo-almere-open-poomsae-onder-voorbehoud/
URL:https://www.taekwondobond.nl/events/taekwondo-almere-open-poomsae-onder-voorbehoud/
END:VEVENT
END:VCALENDAR