BEGIN:VCALENDAR
VERSION:2.0
PRODID:-//eventon.com NONSGML v1.0//EN
CALSCALE:GREGORIAN
METHOD:PUBLISH
BEGIN:VEVENT
UID:69eb9c03bb93c
DTSTAMP:20260424T163619Z
DTSTART:20260502T093000Z
DTEND:20260502T160000Z
LOCATION:
SUMMARY:Wedstrijdreglementencursus
DESCRIPTION:Uitschrijving: Wedstrijdreglementencursus mei 2026 &nbsp;\nhttp
 s://www.taekwondobond.nl/events/wedstrijdreglementencursus-16/
URL:https://www.taekwondobond.nl/events/wedstrijdreglementencursus-16/
END:VEVENT
END:VCALENDAR