BEGIN:VCALENDAR
VERSION:2.0
PRODID:-//eventon.com NONSGML v1.0//EN
CALSCALE:GREGORIAN
METHOD:PUBLISH
BEGIN:VEVENT
UID:69eb9bd8e5bc0
DTSTAMP:20260424T163536Z
DTSTART:20260425T110000Z
DTEND:20260425T150000Z
LOCATION:
SUMMARY:Poomsae en sparring seminar district Zuid-Nederland
DESCRIPTION:\nhttps://www.taekwondobond.nl/events/poomsae-en-sparring-semin
 ar-district-zuid-nederland/
URL:https://www.taekwondobond.nl/events/poomsae-en-sparring-seminar-district-zuid-nederland/
END:VEVENT
END:VCALENDAR