BEGIN:VCALENDAR
VERSION:2.0
PRODID:-//eventon.com NONSGML v1.0//EN
CALSCALE:GREGORIAN
METHOD:PUBLISH
BEGIN:VEVENT
UID:69eb9bf40b6b3
DTSTAMP:20260424T163604Z
DTSTART:20260524T100000Z
DTEND:20260525T160000Z
LOCATION:
SUMMARY:Taekwondo Seminar
DESCRIPTION:&nbsp; Informatie: Dang Dinh Ky Tu Pinksteren 2026\nhttps://www
 .taekwondobond.nl/events/taekwondo-seminar-2/
URL:https://www.taekwondobond.nl/events/taekwondo-seminar-2/
END:VEVENT
END:VCALENDAR