BEGIN:VCALENDAR
VERSION:2.0
PRODID:-//eventon.com NONSGML v1.0//EN
CALSCALE:GREGORIAN
METHOD:PUBLISH
BEGIN:VEVENT
UID:69eb9c41295b7
DTSTAMP:20260424T163721Z
DTSTART:20270123
DTEND:20270124
LOCATION:
SUMMARY:Geblokt
DESCRIPTION:Geblokt\nhttps://www.taekwondobond.nl/events/geblokt/
URL:https://www.taekwondobond.nl/events/geblokt/
END:VEVENT
END:VCALENDAR